BEGIN:VCALENDAR
VERSION:2.0
PRODID:-//eventon.com NONSGML v1.0//EN
BEGIN:VEVENT
UID:69e929280e1a8
DTSTAMP:20260423T040144
DTSTART:20210924T110000Z
DTEND:20210924T155000Z
LOCATION:The Canyon Club Montclair 5060 E N Montclair Plaza Ln\,  Montclair\,  CA 91763
SUMMARY:The Canyon Club - Montclair
DESCRIPTION: Doors 6pm. Music 7pm. Hollywood u2 8pm. $19.50 / $24.50 / $35.00 + applicable fees
END:VEVENT
END:VCALENDAR