BEGIN:VCALENDAR
VERSION:2.0
PRODID:-//eventon.com NONSGML v1.0//EN
BEGIN:VEVENT
UID:69e92924b96ab
DTSTAMP:20260423T040140
DTSTART:20211016T053000Z
DTEND:20211016T155000Z
LOCATION:Seaside Lagoon 200 Portofino Way\,  Redondo Beach\,  CA 90277
SUMMARY:South Bay Rocktober Festival - Redondo Beach\,  CA
DESCRIPTION: Event Starts at Noon. Hollywood U2 showtime 1.30 PM
END:VEVENT
END:VCALENDAR